BEGIN:VCALENDAR
VERSION:2.0
PRODID:-//ChamberMaster//Event Calendar 2.0//EN
METHOD:PUBLISH
X-PUBLISHED-TTL:P3D
REFRESH-INTERVAL:P3D
CALSCALE:GREGORIAN
BEGIN:VEVENT
DTSTART:20220129T200000Z
DTEND:20220129T210000Z
X-MICROSOFT-CDO-ALLDAYEVENT:FALSE
SUMMARY:Windmill Winterim - Learn Staphorst Painting with Pella Historical Society
DESCRIPTION:You've probably seen those beautifully decorated hats and vests at Tulip Time that look like pinpricks of color. They're from the village of Staphorst\, and PHSM member Milly Vande Kieft\, whose ancestors come from that area\, will lead us through the easy and fun way to start Staphorst painting. All of your supplies are provided\; you just have to show up!\n\n\n\nSeating is limited\; call (641) 620-9463 to register or drop by the Vermeer Windmill before Dec. 30.
X-ALT-DESC;FMTTYPE=text/html:You&rsquo\;ve probably seen those beautifully decorated hats and vests at Tulip Time that look like pinpricks of color. They&rsquo\;re from the village of Staphorst\, and PHSM member Milly Vande Kieft\, whose ancestors come from that area\, will lead us through the easy and fun way to start Staphorst painting. All of your supplies are provided\; you just have to show up!<br />\n<br />\nSeating is limited\; call (641) 620-9463 to register or drop by the Vermeer Windmill before Dec. 30.
LOCATION:Scholte House\, Garden Room\, 728 Washington St.
UID:e.1228.18755
SEQUENCE:3
DTSTAMP:20260425T105408Z
URL:https://members.pella.org/events/details/windmill-winterim-learn-staphorst-painting-with-pella-historical-society-18755
END:VEVENT

END:VCALENDAR
