BEGIN:VCALENDAR
VERSION:2.0
PRODID:-//ChamberMaster//Event Calendar 2.0//EN
METHOD:PUBLISH
X-PUBLISHED-TTL:P3D
REFRESH-INTERVAL:P3D
CALSCALE:GREGORIAN
BEGIN:VEVENT
DTSTART:20211209T010000Z
DTEND:20211209T030000Z
X-MICROSOFT-CDO-ALLDAYEVENT:FALSE
SUMMARY:Trivia Night at Nederlanders
DESCRIPTION:Nederlanders Trivia Night!\n\n\n\n-different theme of questions each night\n\n-1-4 people per team\n\n*you may have more per team\, but you will not be eligible for prizes\n\n-4 rounds with 10ish questions per round\n\n-Prizes for each round winner\n\n-Overall winners will receive "Nederlanders Trivia Champion" shirts
X-ALT-DESC;FMTTYPE=text/html:Nederlanders Trivia Night!<br />\n<br />\n-different theme of questions each night<br />\n-1-4 people per team<br />\n*you may have more per team\, but you will not be eligible for prizes<br />\n-4 rounds with 10ish questions per round<br />\n-Prizes for each round winner<br />\n-Overall winners will receive &ldquo\;Nederlanders Trivia Champion&rdquo\; shirts
LOCATION:Nederlands Tap & Golf\, 514 1/2 Main St.
UID:e.1228.17578
SEQUENCE:3
DTSTAMP:20260424T104356Z
URL:https://members.pella.org/events/details/trivia-night-at-nederlanders-12-08-2021-17578
END:VEVENT

END:VCALENDAR
