BEGIN:VCALENDAR
VERSION:2.0
PRODID:-//ChamberMaster//Event Calendar 2.0//EN
METHOD:PUBLISH
X-PUBLISHED-TTL:P3D
REFRESH-INTERVAL:P3D
CALSCALE:GREGORIAN
BEGIN:VEVENT
DTSTART:20210624T000000Z
DTEND:20210624T020000Z
X-MICROSOFT-CDO-ALLDAYEVENT:FALSE
SUMMARY:"The Office" Trivia Night at Nederlanders
DESCRIPTION:Think you know the TV show "The Office"? Come test your knowledge June 23 at Nederlanders Trivia Night!\n\n1-4 people per team with 3 rounds of 10ish questions per round.\n\nPrizes for every round winner and overall winners receive "Nederlanders Trivia Night Champion" shirt.\n\nNo use of cell phones.\n\nWe will start at 7:00pm\, so make sure to be here on time to grab a spot\, a trivia card\, and a drink!
X-ALT-DESC;FMTTYPE=text/html:Think you know the TV show &ldquo\;The Office&rdquo\;? Come test your knowledge June 23 at Nederlanders Trivia Night!<br />\n1-4 people per team with&nbsp\;3 rounds of 10ish questions per round.<br />\nPrizes for every round winner and overall winners receive &ldquo\;Nederlanders Trivia Night Champion&rdquo\; shirt.<br />\nNo use of cell phones.<br />\nWe will start at 7:00pm\, so make sure to be here on time to grab a spot\, a trivia card\, and a drink!
LOCATION:Nederlanders\, 514 1/2 Main St.
UID:e.1228.17238
SEQUENCE:3
DTSTAMP:20260421T002424Z
URL:https://members.pella.org/events/details/the-office-trivia-night-at-nederlanders-17238
END:VEVENT

END:VCALENDAR
