BEGIN:VCALENDAR
VERSION:2.0
PRODID:-//ChamberMaster//Event Calendar 2.0//EN
METHOD:PUBLISH
X-PUBLISHED-TTL:P3D
REFRESH-INTERVAL:P3D
CALSCALE:GREGORIAN
BEGIN:VEVENT
DTSTART:20190629T160000Z
DTEND:20190630T010000Z
X-MICROSOFT-CDO-ALLDAYEVENT:FALSE
SUMMARY:Tassel Ridge Winery presents Wine & Wood Fired Oven Pizza Day
DESCRIPTION:Enjoy an individual Wood Fired Oven Pizza ($12). Choose an Arugula\, Prosciutto\, Pine Nut\, Shaved Parmesan\, and Balsamic Vinaigrette Pizza\; a Pizza Hawaii with Ham\, Pineapple\, and Shredded Mozzarella\; a Leighton Special Pizza with Leighton Locker Brats\, Brown Mustard\, Caramelized Onions\, and Shredded Mozzarella\; a Margherita Pizza with Fresh Basil and Fresh Mozzarella\; a Pepperoni\, Black Olive\, and Shredded Mozzarella Pizza\; or select any four toppings from the Toppings of the Day (Arugula\, Balsamic Vinaigrette\, Black Olives\, Brown Mustard\, Caramelized Onions\, Fresh Basil\, Fresh Mozzarella\, Ham\, Leighton Locker Brats\, Pepperoni\, Pine Nuts\, Pineapple\, Prosciutto\, or Shaved Parmesan) to Create Your Own Pizza ($13) (Create Your Own Pizzas include Tomato Sauce and Shredded Mozzarella)\, and pair it with a Caesar Salad with Romaine\, Croutons\, Shaved Parmesan\, and Caesar Dressing ($4) and your favorite Tassel Ridge wine\, available for purchase by the glass ($6 $9). Reservations requested for groups of 8 or more. From 11am-8pm with pizza served until 7:30pm. At Tassel Ridge Winery\, 1681 220th Street\, Leighton.
X-ALT-DESC;FMTTYPE=text/html:Enjoy an individual Wood Fired Oven Pizza ($12). Choose an Arugula\, Prosciutto\, Pine Nut\, Shaved Parmesan\, and Balsamic Vinaigrette Pizza\; a Pizza Hawaii with Ham\, Pineapple\, and Shredded Mozzarella\; a Leighton Special Pizza with Leighton Locker Brats\, Brown Mustard\, Caramelized Onions\, and Shredded Mozzarella\; a Margherita Pizza with Fresh Basil and Fresh Mozzarella\; a Pepperoni\, Black Olive\, and Shredded Mozzarella Pizza\; or select any four toppings from the Toppings of the Day (Arugula\, Balsamic Vinaigrette\, Black Olives\, Brown Mustard\, Caramelized Onions\, Fresh Basil\, Fresh Mozzarella\, Ham\, Leighton Locker Brats\, Pepperoni\, Pine Nuts\, Pineapple\, Prosciutto\, or Shaved Parmesan) to Create Your Own Pizza ($13) (Create Your Own Pizzas include Tomato Sauce and Shredded Mozzarella)\, and pair it with a Caesar Salad with Romaine\, Croutons\, Shaved Parmesan\, and Caesar Dressing ($4) and your favorite Tassel Ridge wine\, available for purchase by the glass ($6&ndash\;$9). Reservations requested for groups of 8 or more. From 11am-8pm with pizza served until 7:30pm. At Tassel Ridge Winery\, 1681 220th Street\, Leighton.
LOCATION:
UID:e.1228.14806
SEQUENCE:3
DTSTAMP:20260422T054304Z
URL:https://members.pella.org/events/details/tassel-ridge-winery-presents-wine-wood-fired-oven-pizza-day-14806
END:VEVENT

END:VCALENDAR
