BEGIN:VCALENDAR
VERSION:2.0
PRODID:-//ChamberMaster//Event Calendar 2.0//EN
METHOD:PUBLISH
X-PUBLISHED-TTL:P3D
REFRESH-INTERVAL:P3D
CALSCALE:GREGORIAN
BEGIN:VEVENT
DTSTART:20230201T163000Z
DTEND:20230201T170000Z
X-MICROSOFT-CDO-ALLDAYEVENT:FALSE
SUMMARY:Story Time at Pella Public Library
DESCRIPTION:Join us for songs\, stories\, and fun! This program is geared for children of all ages (0 to 6). Miss Katie focuses on early literacy skills for all ages.
X-ALT-DESC;FMTTYPE=text/html:Join us for songs\, stories\, and fun! This program is geared for children of all ages (0 to 6). Miss Katie focuses on early literacy skills for all ages.
LOCATION:Pella Public Library\, Story Time Room
UID:e.1228.20206
SEQUENCE:3
DTSTAMP:20260420T202957Z
URL:https://members.pella.org/events/details/story-time-at-pella-public-library-02-01-2023-20206
END:VEVENT

END:VCALENDAR
