BEGIN:VCALENDAR
VERSION:2.0
PRODID:-//ChamberMaster//Event Calendar 2.0//EN
METHOD:PUBLISH
X-PUBLISHED-TTL:P3D
REFRESH-INTERVAL:P3D
CALSCALE:GREGORIAN
BEGIN:VEVENT
DTSTART:20260428T230000Z
DTEND:20260429T010000Z
X-MICROSOFT-CDO-ALLDAYEVENT:FALSE
SUMMARY:Red Rock Pitch Event - Youth Entrepreneurship
DESCRIPTION:Marion County Development's annual pitch competition is back - with a twist! This year competition will focus solely on youth entrepreneurship. We've partnered with Central College and received a grant from the Governor's Rural Iowa Task Force to help make it a reality.\n\n\n\nHere are the important details: \n\n  When - Tuesday\, April 28th at 6:00pm \n\n  Where - Central College\, Maytag Student Center Van Emmerik Theatre (along Broadway Street)\n\n    o Light refreshments at 6:00pm\n\n    o Program to begin at 6:30pm\n\n    o Seven college teams will compete for up to $10\,000 in prizes\n\n    o 4 judges\, including the Lt. Governor of Iowa\, Chris Cournoyer
X-ALT-DESC;FMTTYPE=text/html:<div>Marion County Development&#39\;s annual pitch competition is back - with a twist! This year competition&nbsp\;will focus solely on youth entrepreneurship. We&#39\;ve partnered with Central College and received&nbsp\;a grant from the Governor&#39\;s Rural Iowa Task Force to help make it a reality.<br />\n<br />\nHere are the important details:&nbsp\;</div>\n\n<div>&bull\;<span style="white-space:pre"> </span>When - Tuesday\, April 28th at&nbsp\;6:00pm&nbsp\;</div>\n\n<div>&bull\;<span style="white-space:pre"> </span>Where - Central College\, Maytag Student Center Van Emmerik Theatre (along Broadway Street)</div>\n\n<div>&nbsp\;&nbsp\;&nbsp\;&nbsp\;o<span style="white-space:pre"> </span>Light refreshments at 6:00pm</div>\n\n<div>&nbsp\;&nbsp\;&nbsp\;&nbsp\;o<span style="white-space:pre"> </span>Program to begin at 6:30pm</div>\n\n<div>&nbsp\;&nbsp\;&nbsp\;&nbsp\;o<span style="white-space:pre"> </span>Seven college teams will compete for up to $10\,000 in prizes</div>\n\n<div>&nbsp\;&nbsp\;&nbsp\;&nbsp\;o<span style="white-space:pre"> </span>4 judges\, including the Lt. Governor of Iowa\, Chris Cournoyer&nbsp\;</div>\n
LOCATION:Central College\, Maytag Student Center Van Emmerik Theatre (along Broadway Street)
UID:e.1228.23483
SEQUENCE:3
DTSTAMP:20260421T211247Z
URL:https://members.pella.org/events/details/red-rock-pitch-event-youth-entrepreneurship-23483
END:VEVENT

END:VCALENDAR
