BEGIN:VCALENDAR
VERSION:2.0
PRODID:-//ChamberMaster//Event Calendar 2.0//EN
METHOD:PUBLISH
X-PUBLISHED-TTL:P3D
REFRESH-INTERVAL:P3D
CALSCALE:GREGORIAN
BEGIN:VEVENT
DTSTART:20220924T150000Z
DTEND:20220924T160000Z
X-MICROSOFT-CDO-ALLDAYEVENT:FALSE
SUMMARY:Pumpkin Succulent Centerpiece Workshop with De Bloemen Hof
DESCRIPTION:Join us for Pumpkin Succulent Centerpiece Workshop!! Pumpkins aren't cut open\, they are glued on from the top with Spanish moss and real succulents. Misted now and again they can root and be transplanted to your favorite succulent container after your pumpkin has dried and on to Christmas decor. We will be using small pumpkins with 6 succulents.\n\n\n\nPlease RSVP by going to our website dbhpella.com or calling 641-628-2571 to sign up to ensure we have enough supplies. Limited spots are available.
X-ALT-DESC;FMTTYPE=text/html:Join us for Pumpkin Succulent Centerpiece Workshop!! Pumpkins aren&#39\;t cut open\, they are glued on from the top with Spanish moss and real succulents. Misted now and again they can root and be transplanted to your favorite succulent container after your pumpkin has dried and on to Christmas decor. We will be using small pumpkins with 6 succulents.<br />\n<br />\nPlease RSVP by going to our website dbhpella.com or calling 641-628-2571 to sign up to ensure we have enough supplies. Limited spots are available.&nbsp\;
LOCATION:De Bloemen Hof\, 2017 Washington St.
UID:e.1228.19499
SEQUENCE:3
DTSTAMP:20260421T211939Z
URL:https://members.pella.org/events/details/pumpkin-succulent-centerpiece-workshop-with-de-bloemen-hof-19499
END:VEVENT

END:VCALENDAR
