BEGIN:VCALENDAR
VERSION:2.0
PRODID:-//ChamberMaster//Event Calendar 2.0//EN
METHOD:PUBLISH
X-PUBLISHED-TTL:P3D
REFRESH-INTERVAL:P3D
CALSCALE:GREGORIAN
BEGIN:VEVENT
DTSTART:20211217T003000Z
DTEND:20211217T013000Z
X-MICROSOFT-CDO-ALLDAYEVENT:FALSE
SUMMARY:Pella Christian's Spanish Immersion Christmas Program
DESCRIPTION:Pella Christian Grade School's Spanish Immersion Kindergarten through 5th Grade students present their annual Spanish Immersion Christmas program. Join us for the live event on Thursday\, December 16 at 6:30pm at Pella Christian High School's Vermeer Auditorium. All are welcome to join us as we celebrate the birth of our Savior!
X-ALT-DESC;FMTTYPE=text/html:Pella Christian Grade School&#39\;s Spanish Immersion Kindergarten through 5th Grade students present their annual Spanish Immersion Christmas program. Join us for the live event on Thursday\, December 16 at 6:30pm at Pella Christian High School&#39\;s Vermeer Auditorium. All are welcome to join us as we celebrate the birth of our Savior!
LOCATION:Pella Christian High School's Vermeer Auditorium\, 300 Eagle Lane
UID:e.1228.18741
SEQUENCE:3
DTSTAMP:20260424T104356Z
URL:https://members.pella.org/events/details/pella-christian-s-spanish-immersion-christmas-program-18741
END:VEVENT

END:VCALENDAR
