BEGIN:VCALENDAR
VERSION:2.0
PRODID:-//ChamberMaster//Event Calendar 2.0//EN
METHOD:PUBLISH
X-PUBLISHED-TTL:P3D
REFRESH-INTERVAL:P3D
CALSCALE:GREGORIAN
BEGIN:VEVENT
DTSTART:20230328T223000Z
DTEND:20230329T004500Z
X-MICROSOFT-CDO-ALLDAYEVENT:FALSE
SUMMARY:Parenting Classes with Families First of Pella
DESCRIPTION:Try a Free Love and Logic Parenting Class and learn how to make parenting less stressful and chaotic\, and more enjoyable!\n\n\n\nAll class options available below or click the link above:\n\nEvening Classes - Thursdays\, January 19\, 26\, February 2 OR Tuesdays\, March 21\, 28\, April 4\n\nMeet & Eat @ Pizza Ranch - Tuesdays\, January 17 - April 18 (12 weeks\, skipping February 14 & March 14)
X-ALT-DESC;FMTTYPE=text/html:Try a Free <strong><a href="https://chambermaster.blob.core.windows.net/userfiles/UserFiles/chambers/1228/File/WinterParentingClassFlyer2023UpdatedDatesTuesdays.pdf">Love and Logic Parenting Class</a></strong> and learn how to make parenting less stressful and chaotic\, and more enjoyable!<br />\n<br />\nAll class options available below or click the link above:<br />\nEvening Classes - Thursdays\, January 19\, 26\, February 2 OR Tuesdays\, March 21\, 28\, April 4<br />\nMeet &amp\; Eat @ Pizza Ranch - Tuesdays\, January 17 - April 18 (12 weeks\, skipping February 14 &amp\; March 14)
LOCATION:
UID:e.1228.20094
SEQUENCE:3
DTSTAMP:20260419T211744Z
URL:https://members.pella.org/events/details/parenting-classes-with-families-first-of-pella-03-28-2023-20094
END:VEVENT

END:VCALENDAR
