BEGIN:VCALENDAR
VERSION:2.0
PRODID:-//ChamberMaster//Event Calendar 2.0//EN
METHOD:PUBLISH
X-PUBLISHED-TTL:P3D
REFRESH-INTERVAL:P3D
CALSCALE:GREGORIAN
BEGIN:VEVENT
DTSTART;VALUE=DATE:20210721
DTEND;VALUE=DATE:20210809
TRANSP:TRANSPARENT
X-MICROSOFT-CDO-ALLDAYEVENT:TRUE
SUMMARY:Nederlanders Tap & Golf Summer League Registration
DESCRIPTION:We will be having a 5 week Indoor Golf League starting August 8.\n\nWeek 1: August 8-14\n\nWeek 2: August 15-21\n\nWeek 3: August 22-28\n\nWeek 4: August 29-September 4\n\nWeek 5: September 5-11\n\n-Teams can pick a tee time on the same day/time each week or switch it up from week to week as long as the round is done by the end of each week. \n\n-Rounds will take about an hour in a half.\n\n-2 person teams (can have more as subs\, but 2 play each week)\n\n-Format will be 2 person scramble on a different course each week. \n\n-$10 per person each week. \n\n-Prizes for weekly winners and hole challenges. \n\n-All skill levels are welcomed! \n\n*To sign up\, you may email us at nederlanderstapgolf@gmail.com or send us a DM on Facebook/Instagram.
X-ALT-DESC;FMTTYPE=text/html:We will be having a 5 week Indoor Golf League starting August 8.<br />\nWeek 1: August 8-14<br />\nWeek 2: August 15-21<br />\nWeek 3: August 22-28<br />\nWeek 4: August 29-September 4<br />\nWeek 5: September 5-11<br />\n-Teams can pick a tee time on the same day/time each week or switch it up from week to week as long as the round is done by the end of each week.&nbsp\;<br />\n-Rounds will take about an hour in a half.<br />\n-2 person teams (can have more as subs\, but 2 play each week)<br />\n-Format will be 2 person scramble on a different course each week.&nbsp\;<br />\n-$10 per person each week.&nbsp\;<br />\n-Prizes for weekly winners and hole challenges.&nbsp\;<br />\n-All skill levels are welcomed!&nbsp\;<br />\n*To sign up\, you may email us at <a href="mailto:nederlanderstapgolf@gmail.com">nederlanderstapgolf@gmail.com</a> or send us a DM on Facebook/Instagram.
LOCATION:Nederlanders Tap & Golf\, 514 1/2 Main St.
UID:e.1228.17500
SEQUENCE:3
DTSTAMP:20260419T165252Z
URL:https://members.pella.org/events/details/nederlanders-tap-golf-summer-league-registration-17500
END:VEVENT

END:VCALENDAR
