BEGIN:VCALENDAR
VERSION:2.0
PRODID:-//ChamberMaster//Event Calendar 2.0//EN
METHOD:PUBLISH
X-PUBLISHED-TTL:P3D
REFRESH-INTERVAL:P3D
CALSCALE:GREGORIAN
BEGIN:VEVENT
DTSTART;VALUE=DATE:20211012
DTEND;VALUE=DATE:20211102
TRANSP:TRANSPARENT
X-MICROSOFT-CDO-ALLDAYEVENT:TRUE
SUMMARY:Friends of the Pella Library Book Sale
DESCRIPTION:The Friends of the Pella Library will hold a book sale in the library lobby October 12-November 1st\, all hours the library is open. Books for all ages! Restocked daily with a freewill donation.
X-ALT-DESC;FMTTYPE=text/html:The Friends of the Pella Library will hold a book sale in the library lobby October 12-November 1st\, all hours the library is open. Books for all ages! Restocked daily with a freewill donation.
LOCATION:Pella Public Library Lobby\, 603 Main St.
UID:e.1228.18533
SEQUENCE:3
DTSTAMP:20260419T191024Z
URL:https://members.pella.org/events/details/friends-of-the-pella-library-book-sale-18533
END:VEVENT

END:VCALENDAR
