BEGIN:VCALENDAR
VERSION:2.0
PRODID:-//ChamberMaster//Event Calendar 2.0//EN
METHOD:PUBLISH
X-PUBLISHED-TTL:P3D
REFRESH-INTERVAL:P3D
CALSCALE:GREGORIAN
BEGIN:VEVENT
DTSTART:20190430T150000Z
DTEND:20190430T160000Z
X-MICROSOFT-CDO-ALLDAYEVENT:FALSE
SUMMARY:Friends of Pella Public Library Annual Meeting
DESCRIPTION:Friends of the Pella Public Library will hold their annual meeting and all members and the general public are welcome to attend. During this business meeting\, minutes from the 2018 meeting will be read\, the treasurer's report will be received and new officers will be elected. Projects funded during the past year are reviewed. At 10am at the Pella Public Library\, 603 Main St.\n\nThe Friends of Library is a non-profit organization whose mission is to: \n\n  Help generate financial support for the improvement of the library \n\n  Increase the interest in and use of the library and its services \n\n  Promote knowledge of the functions\, resources\, services\, and needs of the library \n\n  Provide\, when available\, volunteers to assist with library projects \n\nA donation of $10.00 or more gets a single membership. All donations are tax-deductible. Some of the Friends projects include Book Sales\, the aviary\, guest speakers\, summer reading prizes\, electronic books and movies\,and the early literacy station. Join now!
X-ALT-DESC;FMTTYPE=text/html:<div>Friends of the Pella Public Library will hold their annual meeting and all members and the general public are welcome to attend. During this business meeting\, minutes from the 2018 meeting will be read\, the treasurer&#39\;s report will be received and new officers will be elected. Projects funded during the past year are reviewed. At 10am at the Pella Public Library\, 603 Main St.</div>\n\n<div>The Friends of Library is a non-profit organization whose mission is to:&nbsp\;</div>\n\n<div>&bull\;<span style="white-space:pre"> </span>Help generate financial support for the improvement of the library&nbsp\;</div>\n\n<div>&bull\;<span style="white-space:pre"> </span>Increase the interest in and use of the library and its services&nbsp\;</div>\n\n<div>&bull\;<span style="white-space:pre"> </span>Promote knowledge of the functions\, resources\, services\, and needs of the library&nbsp\;</div>\n\n<div>&bull\;<span style="white-space:pre"> </span>Provide\, when available\, volunteers to assist with library projects&nbsp\;</div>\n\n<div>A donation of $10.00 or more gets a single membership. All donations are tax-deductible. Some of the Friends projects include Book Sales\, the aviary\, guest speakers\, summer reading prizes\, electronic books and movies\,and the early literacy station. Join now!</div>\n
LOCATION:
UID:e.1228.14627
SEQUENCE:3
DTSTAMP:20260422T103904Z
URL:https://members.pella.org/events/details/friends-of-pella-public-library-annual-meeting-14627
END:VEVENT

END:VCALENDAR
