BEGIN:VCALENDAR
VERSION:2.0
PRODID:-//ChamberMaster//Event Calendar 2.0//EN
METHOD:PUBLISH
X-PUBLISHED-TTL:P3D
REFRESH-INTERVAL:P3D
CALSCALE:GREGORIAN
BEGIN:VEVENT
DTSTART:20221030T200000Z
DTEND:20221030T210000Z
X-MICROSOFT-CDO-ALLDAYEVENT:FALSE
SUMMARY:Flying Pans Steel Drum Band at Central College
DESCRIPTION:A set of performances by Central's Flying Pans Steel Drum Band will close out October's festivities. Their fall show will be at 7:30 p.m. Saturday\, Oct. 29\, in Douwstra Auditorium with a final performance at 3 p.m. Sunday\, Oct. 29. This ensemble is under the direction of Dahl.\n\n\n\nFind tickets here.
X-ALT-DESC;FMTTYPE=text/html:A set of performances by Central&#39\;s Flying Pans Steel Drum Band will close out October&#39\;s festivities. Their fall show will be at 7:30 p.m. Saturday\, Oct. 29\, in Douwstra Auditorium with a final performance at 3 p.m. Sunday\, Oct. 29. This ensemble is under the direction of Dahl.<br />\n<br />\nFind tickets <a href="https://central.universitytickets.com/?cid=168"><strong>here</strong></a>.
LOCATION:
UID:e.1228.19615
SEQUENCE:3
DTSTAMP:20260423T021033Z
URL:https://members.pella.org/events/details/flying-pans-steel-drum-band-at-central-college-19615
END:VEVENT

END:VCALENDAR
