BEGIN:VCALENDAR
VERSION:2.0
PRODID:-//ChamberMaster//Event Calendar 2.0//EN
METHOD:PUBLISH
X-PUBLISHED-TTL:P3D
REFRESH-INTERVAL:P3D
CALSCALE:GREGORIAN
BEGIN:VEVENT
DTSTART:20211120T160000Z
DTEND:20211204T220000Z
X-MICROSOFT-CDO-ALLDAYEVENT:FALSE
SUMMARY:Festival of Trees
DESCRIPTION:Visit the 2021 Festival of Trees\, and experience all the sights and sounds of the holidays! There's always something special for the children\, and everyone will enjoy the beautiful trees\, lights\, wreaths and decorations in the Great Hall. Our Christmas Boutique will be open with items available for immediate purchase. Other items are part of our silent auction\, with all proceeds benefiting Pella Opera House youth programming.\n\nEvent takes place November 20 - December 4\, 10 am - 4 pm\n\n(CLOSED SUNDAY\, NOV. 21 & THANKSGIVING. Open 1-5 pm\, Sunday\, November 28 and open Monday\, November 22 until 8 pm.)\n\nFor more information\, visit pellaoperahouse.org.
X-ALT-DESC;FMTTYPE=text/html:<p font-size:="" helvetica="" style="box-sizing: border-box\; margin: 0px 0px 2rem\; padding: 0px\; color: rgba(0\, 0\, 0\, 0.7)\; font-family: "><span style="font-size:14px\;"><span style="font-family:arial\;">Visit the <strong><a href="https://chambermaster.blob.core.windows.net/userfiles/UserFiles/chambers/1228/File/2021FestivalofTreesPoster.pdf">2021 Festival of Trees</a></strong>\, and experience all the sights and sounds of the holidays! There&rsquo\;s always something special for the children\, and everyone will enjoy the beautiful trees\, lights\, wreaths and decorations in the Great Hall. Our Christmas Boutique will be open with items available for immediate purchase. Other items are part of our silent auction\, with all proceeds benefiting Pella Opera House youth programming.</span></span></p>\n\n<p font-size:="" helvetica="" style="box-sizing: border-box\; margin: 0px 0px 2rem\; padding: 0px\; color: rgba(0\, 0\, 0\, 0.7)\; font-family: "><span style="font-size:14px\;"><span style="font-family:arial\;">Event takes place November 20 - December 4\, 10 am - 4 pm<br style="box-sizing: border-box\;" />\n(CLOSED SUNDAY\, NOV. 21 &amp\; THANKSGIVING. Open 1-5 pm\, Sunday\, November 28 and open Monday\, November 22 until 8 pm.)</span></span></p>\n\n<p font-size:="" helvetica="" style="box-sizing: border-box\; margin: 0px 0px 2rem\; padding: 0px\; color: rgba(0\, 0\, 0\, 0.7)\; font-family: "><span style="font-size:14px\;"><span style="font-family:arial\;">For more information\, visit&nbsp\;<a href="https://pellaoperahouse.org/" style="box-sizing: border-box\;">pellaoperahouse.org</a>.</span></span></p>\n
LOCATION:Pella Opera House 611 Franklin St.
UID:e.1228.17677
SEQUENCE:3
DTSTAMP:20260424T220052Z
URL:https://members.pella.org/events/details/festival-of-trees-17677
END:VEVENT

END:VCALENDAR
