BEGIN:VCALENDAR
VERSION:2.0
PRODID:-//ChamberMaster//Event Calendar 2.0//EN
METHOD:PUBLISH
X-PUBLISHED-TTL:P3D
REFRESH-INTERVAL:P3D
CALSCALE:GREGORIAN
BEGIN:VEVENT
DTSTART:20191008T000000Z
DTEND:20191008T013000Z
X-MICROSOFT-CDO-ALLDAYEVENT:FALSE
SUMMARY:Culture Night: South Africa with Pella Public Library
DESCRIPTION:Learn about the customs\, culture\, food and history of South Africa from Shelley Bradfield as part of the library's ongoing Culture Night series. At 7pm in Room 206 at the Pella Community Center\, 712 Union St. Free and open to the public.
X-ALT-DESC;FMTTYPE=text/html:Learn about the customs\, culture\, food and history of South Africa from Shelley Bradfield as part of the library&#39\;s ongoing Culture Night series. At 7pm in Room 206 at the Pella Community Center\, 712 Union St. Free and open to the public.
LOCATION:Pella Community Center\, Room 206 712 Union St.\, Pella\, IA
UID:e.1228.14989
SEQUENCE:3
DTSTAMP:20260420T164015Z
URL:https://members.pella.org/events/details/culture-night-south-africa-with-pella-public-library-14989
END:VEVENT

END:VCALENDAR
