BEGIN:VCALENDAR
VERSION:2.0
PRODID:-//ChamberMaster//Event Calendar 2.0//EN
METHOD:PUBLISH
X-PUBLISHED-TTL:P3D
REFRESH-INTERVAL:P3D
CALSCALE:GREGORIAN
BEGIN:VEVENT
DTSTART:20190722T160000Z
DTEND:20190722T170000Z
X-MICROSOFT-CDO-ALLDAYEVENT:FALSE
SUMMARY:Conversations in Spanish at Pella Public Library
DESCRIPTION:Native and non-native Spanish speakers are invited to gather for casual conversation in Spanish. This is for individuals who have at least a basic to intermediate understanding of the Spanish language with the goal of promoting learning through conversation. There is no curriculum or classroom-style learning involved. At 11am in the Pella Public Library meeting room\, 603 Main St. Free and open to the public.
X-ALT-DESC;FMTTYPE=text/html:Native and non-native Spanish speakers are invited to gather for casual conversation in Spanish. This is for individuals who have at least a basic to intermediate understanding of the Spanish language with the goal of promoting learning through conversation. There is no curriculum or classroom-style learning involved. At 11am in the Pella Public Library meeting room\, 603 Main St. Free and open to the public.
LOCATION:Pella Public Library Meeting Room 603 Main St.\, Pella\, IA
UID:e.1228.14786
SEQUENCE:3
DTSTAMP:20260423T110801Z
URL:https://members.pella.org/events/details/conversations-in-spanish-at-pella-public-library-07-22-2019-14786
END:VEVENT

END:VCALENDAR
