BEGIN:VCALENDAR
VERSION:2.0
PRODID:-//ChamberMaster//Event Calendar 2.0//EN
METHOD:PUBLISH
X-PUBLISHED-TTL:P3D
REFRESH-INTERVAL:P3D
CALSCALE:GREGORIAN
BEGIN:VEVENT
DTSTART:20210514T180000Z
DTEND:20210514T230000Z
X-MICROSOFT-CDO-ALLDAYEVENT:FALSE
SUMMARY:Central College Baseball Games
DESCRIPTION:Central College Baseball games against Simpson College. Watch in person or online here.
X-ALT-DESC;FMTTYPE=text/html:Central College Baseball games against Simpson College. Watch in person or online <a href="https://portal.stretchinternet.com/central/">here</a>.
LOCATION:Central College or watch online
UID:e.1228.17003
SEQUENCE:3
DTSTAMP:20260420T174447Z
URL:https://members.pella.org/events/details/central-college-baseball-games-17003
END:VEVENT

END:VCALENDAR
