BEGIN:VCALENDAR
VERSION:2.0
PRODID:-//ChamberMaster//Event Calendar 2.0//EN
METHOD:PUBLISH
X-PUBLISHED-TTL:P3D
REFRESH-INTERVAL:P3D
CALSCALE:GREGORIAN
BEGIN:VEVENT
DTSTART:20240715T150000Z
DTEND:20240715T160000Z
X-MICROSOFT-CDO-ALLDAYEVENT:FALSE
SUMMARY:A Playdate to do Good Things at Crossroads of Pella
DESCRIPTION:WANTED! Your family at A Playdate to do Good Things\n\n\n\nJoin us July 15 at 10am on the 3rd floor of the Pella Community Center for a kid-friendly service project. No RSVP needed.\n\n\n\nWestern fun included! Rewarding!
X-ALT-DESC;FMTTYPE=text/html:WANTED! Your family at A Playdate to do Good Things<br />\n<br />\nJoin us July 15 at 10am on the 3rd floor of the Pella Community Center for a kid-friendly service project. No RSVP needed.<br />\n<br />\nWestern fun included! Rewarding!
LOCATION:Crossroads of Pella\, 712 Union St.\, #301
UID:e.1228.21968
SEQUENCE:3
DTSTAMP:20260424T081754Z
URL:https://members.pella.org/events/details/a-playdate-to-do-good-things-at-crossroads-of-pella-21968
END:VEVENT

END:VCALENDAR
